BEGIN:VCALENDAR
VERSION:2.0
PRODID:-//wp-events-plugin.com//7.0.4//EN
BEGIN:VEVENT
UID:5@inaausa.com
DTSTART;VALUE=DATE:20230610
DTEND;VALUE=DATE:20230611
DTSTAMP:20230509T060841Z
URL:https://inaausa.com/events/executive-team-2023-24/
SUMMARY:Executive Team 2023-24
DESCRIPTION:[vc_row][vc_column][vc_single_image image="100000469" img_size=
 "full" bb_tab_container=""][/vc_column][/vc_row]\n
END:VEVENT
END:VCALENDAR