BEGIN:VCALENDAR
VERSION:2.0
PRODID:-//wp-events-plugin.com//7.0.4//EN
BEGIN:VEVENT
UID:2@inaausa.com
DTSTART;VALUE=DATE:20230405
DTEND;VALUE=DATE:20230501
DTSTAMP:20230405T050039Z
URL:https://inaausa.com/events/gala-night-2/
SUMMARY:Gala Night
DESCRIPTION:[vc_row][vc_column][vc_single_image image="100000185" img_size=
 "large" alignment="center" bb_tab_container=""][/vc_column][/vc_row]
ATTACH;FMTTYPE=image/jpeg:https://inaausa.com/wp-content/uploads/2023/04/W
 hatsApp-Image-2023-01-17-at-8.15.54-PM-1-864x467-1.jpeg
END:VEVENT
END:VCALENDAR